Package: DOtools Version: 1.0.0 Command: /Library/Frameworks/R.framework/Resources/bin/R CMD INSTALL DOtools StartedAt: 2025-11-05 16:01:31 -0500 (Wed, 05 Nov 2025) EndedAt: 2025-11-05 16:01:50 -0500 (Wed, 05 Nov 2025) EllapsedTime: 18.6 seconds RetCode: 0 Status: OK