Package: DOtools Version: 1.0.0 Maintainer: Mariano Ruz Jurado MaintainerEmail: ruzjurado at med.uni-frankfurt.de git_url: https://git.bioconductor.org/packages/DOtools git_branch: RELEASE_3_22 git_last_commit: 95a2404 git_last_commit_date: 2025-10-29 11:38:46 -0500 (Wed, 29 Oct 2025)