Package: DOSE Version: 4.4.0 Command: /home/biocbuild/bbs-3.22-bioc/R/bin/R CMD build --keep-empty-dirs --no-resave-data --md5 DOSE StartedAt: 2025-11-11 17:28:29 -0500 (Tue, 11 Nov 2025) EndedAt: 2025-11-11 17:29:04 -0500 (Tue, 11 Nov 2025) EllapsedTime: 35.0 seconds RetCode: 0 Status: OK PackageFile: DOSE_4.4.0.tar.gz PackageFileSize: 5.482 MiB