Package: DOSE Version: 4.4.0 Command: /Library/Frameworks/R.framework/Resources/bin/R CMD INSTALL DOSE StartedAt: 2025-11-10 15:22:58 -0500 (Mon, 10 Nov 2025) EndedAt: 2025-11-10 15:23:08 -0500 (Mon, 10 Nov 2025) EllapsedTime: 10.5 seconds RetCode: 0 Status: OK