Package: DOSE Version: 4.4.0 Command: /Library/Frameworks/R.framework/Resources/bin/R CMD build --keep-empty-dirs --no-resave-data DOSE StartedAt: 2025-11-10 16:15:44 -0500 (Mon, 10 Nov 2025) EndedAt: 2025-11-10 16:16:00 -0500 (Mon, 10 Nov 2025) EllapsedTime: 15.2 seconds RetCode: 0 Status: OK PackageFile: DOSE_4.4.0.tar.gz PackageFileSize: 5.479 MiB