Package: DNEA Version: 1.0.0 Command: /home/biocbuild/bbs-3.22-bioc/R/bin/R CMD INSTALL DNEA StartedAt: 2025-11-11 15:42:21 -0500 (Tue, 11 Nov 2025) EndedAt: 2025-11-11 15:42:54 -0500 (Tue, 11 Nov 2025) EllapsedTime: 33.1 seconds RetCode: 0 Status: OK