Package: DNEA Version: 1.0.0 Command: /Library/Frameworks/R.framework/Resources/bin/R CMD INSTALL DNEA StartedAt: 2025-11-10 15:14:54 -0500 (Mon, 10 Nov 2025) EndedAt: 2025-11-10 15:15:07 -0500 (Mon, 10 Nov 2025) EllapsedTime: 13.5 seconds RetCode: 0 Status: OK