Package: DNAshapeR Version: 1.38.0 Command: /home/biocbuild/R/R/bin/R CMD build --keep-empty-dirs --no-resave-data DNAshapeR StartedAt: 2025-11-14 01:22:44 -0000 (Fri, 14 Nov 2025) EndedAt: 2025-11-14 01:24:08 -0000 (Fri, 14 Nov 2025) EllapsedTime: 84.0 seconds RetCode: 0 Status: OK PackageFile: DNAshapeR_1.38.0.tar.gz PackageFileSize: 1.003 MiB