Package: DNAshapeR Version: 1.38.0 Command: /home/biocbuild/bbs-3.22-bioc/R/bin/R CMD check --install=check:DNAshapeR.install-out.txt --library=/home/biocbuild/bbs-3.22-bioc/R/site-library --timings DNAshapeR_1.38.0.tar.gz StartedAt: 2025-11-11 23:15:33 -0500 (Tue, 11 Nov 2025) EndedAt: 2025-11-11 23:18:00 -0500 (Tue, 11 Nov 2025) EllapsedTime: 147.1 seconds RetCode: 0 Status: OK CheckDir: DNAshapeR.Rcheck Warnings: 0