Package: DNAshapeR Version: 1.38.0 Command: /home/biocbuild/bbs-3.22-bioc/R/bin/R CMD build --keep-empty-dirs --no-resave-data --md5 DNAshapeR StartedAt: 2025-11-11 17:27:24 -0500 (Tue, 11 Nov 2025) EndedAt: 2025-11-11 17:28:29 -0500 (Tue, 11 Nov 2025) EllapsedTime: 65.0 seconds RetCode: 0 Status: OK PackageFile: DNAshapeR_1.38.0.tar.gz PackageFileSize: 1.1 MiB