Package: DNAshapeR Version: 1.36.0 Command: /home/biocbuild/bbs-3.21-bioc/R/bin/R CMD INSTALL DNAshapeR StartedAt: 2025-10-15 15:15:46 -0400 (Wed, 15 Oct 2025) EndedAt: 2025-10-15 15:16:22 -0400 (Wed, 15 Oct 2025) EllapsedTime: 36.1 seconds RetCode: 0 Status: OK