Package: DNAfusion Version: 1.12.0 Command: /home/biocbuild/R/R/bin/R CMD INSTALL DNAfusion StartedAt: 2025-11-13 21:52:12 -0000 (Thu, 13 Nov 2025) EndedAt: 2025-11-13 21:52:55 -0000 (Thu, 13 Nov 2025) EllapsedTime: 42.8 seconds RetCode: 0 Status: OK