Package: DNAfusion Version: 1.12.0 Command: /home/biocbuild/R/R/bin/R CMD build --keep-empty-dirs --no-resave-data DNAfusion StartedAt: 2025-11-14 01:22:18 -0000 (Fri, 14 Nov 2025) EndedAt: 2025-11-14 01:25:21 -0000 (Fri, 14 Nov 2025) EllapsedTime: 183.1 seconds RetCode: 0 Status: OK PackageFile: DNAfusion_1.12.0.tar.gz PackageFileSize: 6.325 MiB