Package: DNAfusion Version: 1.12.0 Command: /home/biocbuild/bbs-3.22-bioc/R/bin/R CMD INSTALL DNAfusion StartedAt: 2025-11-11 15:49:47 -0500 (Tue, 11 Nov 2025) EndedAt: 2025-11-11 15:50:20 -0500 (Tue, 11 Nov 2025) EllapsedTime: 32.6 seconds RetCode: 0 Status: OK