Package: DNAfusion Version: 1.12.0 Command: /home/biocbuild/bbs-3.22-bioc/R/bin/R CMD check --install=check:DNAfusion.install-out.txt --library=/home/biocbuild/bbs-3.22-bioc/R/site-library --timings DNAfusion_1.12.0.tar.gz StartedAt: 2025-11-11 23:15:31 -0500 (Tue, 11 Nov 2025) EndedAt: 2025-11-11 23:24:52 -0500 (Tue, 11 Nov 2025) EllapsedTime: 561.5 seconds RetCode: 0 Status: OK CheckDir: DNAfusion.Rcheck Warnings: 0