Package: DNAfusion Version: 1.12.0 Command: /home/biocbuild/bbs-3.22-bioc/R/bin/R CMD build --keep-empty-dirs --no-resave-data --md5 DNAfusion StartedAt: 2025-11-11 17:27:10 -0500 (Tue, 11 Nov 2025) EndedAt: 2025-11-11 17:29:37 -0500 (Tue, 11 Nov 2025) EllapsedTime: 147.1 seconds RetCode: 0 Status: OK PackageFile: DNAfusion_1.12.0.tar.gz PackageFileSize: 6.299 MiB