Package: DNAfusion Version: 1.10.0 Command: /home/biocbuild/bbs-3.21-bioc/R/bin/R CMD build --keep-empty-dirs --no-resave-data DNAfusion StartedAt: 2025-09-28 17:31:14 -0400 (Sun, 28 Sep 2025) EndedAt: 2025-09-28 17:34:32 -0400 (Sun, 28 Sep 2025) EllapsedTime: 198.2 seconds RetCode: 0 Status: OK PackageFile: DNAfusion_1.10.0.tar.gz PackageFileSize: 6.298 MiB