Package: DNAfusion Version: 1.10.0 Command: /Library/Frameworks/R.framework/Resources/bin/R CMD INSTALL DNAfusion StartedAt: 2025-10-13 16:18:23 -0400 (Mon, 13 Oct 2025) EndedAt: 2025-10-13 16:19:34 -0400 (Mon, 13 Oct 2025) EllapsedTime: 70.4 seconds RetCode: 0 Status: OK