Package: DNAfusion Version: 1.10.0 Command: /Library/Frameworks/R.framework/Resources/bin/R CMD build --keep-empty-dirs --no-resave-data DNAfusion StartedAt: 2025-10-13 18:42:51 -0400 (Mon, 13 Oct 2025) EndedAt: 2025-10-13 18:50:10 -0400 (Mon, 13 Oct 2025) EllapsedTime: 438.6 seconds RetCode: 0 Status: OK PackageFile: DNAfusion_1.10.0.tar.gz PackageFileSize: 6.298 MiB