Package: DNAfusion Version: 1.10.0 Command: /home/biocbuild/R/R/bin/R CMD INSTALL DNAfusion StartedAt: 2025-09-25 21:00:01 -0000 (Thu, 25 Sep 2025) EndedAt: 2025-09-25 21:00:50 -0000 (Thu, 25 Sep 2025) EllapsedTime: 49.3 seconds RetCode: 0 Status: OK