Package: DNAfusion Version: 1.10.0 Command: /home/biocbuild/R/R/bin/R CMD build --keep-empty-dirs --no-resave-data DNAfusion StartedAt: 2025-09-26 00:48:13 -0000 (Fri, 26 Sep 2025) EndedAt: 2025-09-26 00:52:37 -0000 (Fri, 26 Sep 2025) EllapsedTime: 264.1 seconds RetCode: 0 Status: OK PackageFile: DNAfusion_1.10.0.tar.gz PackageFileSize: 6.325 MiB