Package: DNAfusion Version: 1.10.0 Command: /Library/Frameworks/R.framework/Resources/bin/R CMD INSTALL DNAfusion StartedAt: 2025-09-29 17:35:58 -0400 (Mon, 29 Sep 2025) EndedAt: 2025-09-29 17:36:39 -0400 (Mon, 29 Sep 2025) EllapsedTime: 40.4 seconds RetCode: 0 Status: OK