Package: DNAfusion Version: 1.10.0 Command: /Library/Frameworks/R.framework/Resources/bin/R CMD build --keep-empty-dirs --no-resave-data DNAfusion StartedAt: 2025-09-29 23:35:31 -0400 (Mon, 29 Sep 2025) EndedAt: 2025-09-29 23:40:05 -0400 (Mon, 29 Sep 2025) EllapsedTime: 273.9 seconds RetCode: 0 Status: OK PackageFile: DNAfusion_1.10.0.tar.gz PackageFileSize: 6.298 MiB