Package: DNAcycP2 Version: 1.2.0 Command: /Library/Frameworks/R.framework/Resources/bin/R CMD INSTALL DNAcycP2 StartedAt: 2025-11-03 15:18:26 -0500 (Mon, 03 Nov 2025) EndedAt: 2025-11-03 15:18:37 -0500 (Mon, 03 Nov 2025) EllapsedTime: 11.3 seconds RetCode: 0 Status: OK