Package: DNAcycP2 Version: 1.2.0 Command: /Library/Frameworks/R.framework/Resources/bin/R CMD build --keep-empty-dirs --no-resave-data DNAcycP2 StartedAt: 2025-11-03 16:51:05 -0500 (Mon, 03 Nov 2025) EndedAt: 2025-11-03 16:57:17 -0500 (Mon, 03 Nov 2025) EllapsedTime: 372.8 seconds RetCode: 1 Status: ERROR PackageFile: None PackageFileSize: NA