Package: DNAcycP2 Version: 1.0.0 Command: /home/biocbuild/R/R/bin/R CMD INSTALL DNAcycP2 StartedAt: 2025-10-13 20:22:49 -0000 (Mon, 13 Oct 2025) EndedAt: 2025-10-13 20:22:59 -0000 (Mon, 13 Oct 2025) EllapsedTime: 10.0 seconds RetCode: 0 Status: OK