Package: DNAcycP2 Version: 1.0.0 Command: rm -rf DNAcycP2.buildbin-libdir && mkdir DNAcycP2.buildbin-libdir && /Users/biocbuild/BBS/utils/build-universal.sh DNAcycP2_1.0.0.tar.gz /Library/Frameworks/R.framework/Resources/bin/R DNAcycP2.buildbin-libdir StartedAt: 2025-04-21 22:33:26 -0400 (Mon, 21 Apr 2025) EndedAt: 2025-04-21 22:33:31 -0400 (Mon, 21 Apr 2025) EllapsedTime: 5.1 seconds RetCode: 0 Status: OK PackageFile: DNAcycP2_1.0.0.tgz PackageFileSize: 1.598 MiB