Package: DNAcopy Version: 1.84.0 Command: /home/biocbuild/bbs-3.22-bioc/R/bin/R CMD build --keep-empty-dirs --no-resave-data --md5 DNAcopy StartedAt: 2025-11-11 17:27:01 -0500 (Tue, 11 Nov 2025) EndedAt: 2025-11-11 17:27:10 -0500 (Tue, 11 Nov 2025) EllapsedTime: 9.0 seconds RetCode: 0 Status: OK PackageFile: DNAcopy_1.84.0.tar.gz PackageFileSize: 407.1 KiB