Package: DNAcopy Version: 1.84.0 Command: /Library/Frameworks/R.framework/Resources/bin/R CMD INSTALL DNAcopy StartedAt: 2025-11-10 15:01:16 -0500 (Mon, 10 Nov 2025) EndedAt: 2025-11-10 15:01:21 -0500 (Mon, 10 Nov 2025) EllapsedTime: 5.4 seconds RetCode: 0 Status: OK