Package: DNAcopy Version: 1.84.0 Command: /Library/Frameworks/R.framework/Resources/bin/R CMD build --keep-empty-dirs --no-resave-data DNAcopy StartedAt: 2025-11-10 16:14:54 -0500 (Mon, 10 Nov 2025) EndedAt: 2025-11-10 16:15:01 -0500 (Mon, 10 Nov 2025) EllapsedTime: 7.1 seconds RetCode: 0 Status: OK PackageFile: DNAcopy_1.84.0.tar.gz PackageFileSize: 404.9 KiB