Package: DNAcopy Version: 1.84.0 Command: rm -rf DNAcopy.buildbin-libdir && mkdir DNAcopy.buildbin-libdir && /Users/biocbuild/BBS/utils/build-universal.sh DNAcopy_1.84.0.tar.gz /Library/Frameworks/R.framework/Resources/bin/R DNAcopy.buildbin-libdir StartedAt: 2025-11-10 23:18:22 -0500 (Mon, 10 Nov 2025) EndedAt: 2025-11-10 23:18:26 -0500 (Mon, 10 Nov 2025) EllapsedTime: 4.0 seconds RetCode: 0 Status: OK PackageFile: DNAcopy_1.84.0.tgz PackageFileSize: 500.4 KiB