Package: DNABarcodes Version: 1.40.0 Command: /home/biocbuild/R/R/bin/R CMD INSTALL DNABarcodes StartedAt: 2025-11-13 21:06:55 -0000 (Thu, 13 Nov 2025) EndedAt: 2025-11-13 21:09:23 -0000 (Thu, 13 Nov 2025) EllapsedTime: 148.0 seconds RetCode: 0 Status: OK