Package: DNABarcodes Version: 1.40.0 Command: /home/biocbuild/R/R/bin/R CMD build --keep-empty-dirs --no-resave-data DNABarcodes StartedAt: 2025-11-11 01:16:12 -0000 (Tue, 11 Nov 2025) EndedAt: 2025-11-11 01:18:05 -0000 (Tue, 11 Nov 2025) EllapsedTime: 113.0 seconds RetCode: 0 Status: OK PackageFile: DNABarcodes_1.40.0.tar.gz PackageFileSize: 371.9 KiB