Package: DNABarcodes Version: 1.40.0 Command: /home/biocbuild/bbs-3.22-bioc/R/bin/R CMD build --keep-empty-dirs --no-resave-data --md5 DNABarcodes StartedAt: 2025-11-11 17:26:51 -0500 (Tue, 11 Nov 2025) EndedAt: 2025-11-11 17:28:11 -0500 (Tue, 11 Nov 2025) EllapsedTime: 80.0 seconds RetCode: 0 Status: OK PackageFile: DNABarcodes_1.40.0.tar.gz PackageFileSize: 350.6 KiB