Package: DNABarcodes Version: 1.38.0 Command: /Library/Frameworks/R.framework/Resources/bin/R CMD INSTALL DNABarcodes StartedAt: 2025-10-13 15:09:56 -0400 (Mon, 13 Oct 2025) EndedAt: 2025-10-13 15:12:08 -0400 (Mon, 13 Oct 2025) EllapsedTime: 132.0 seconds RetCode: 0 Status: OK