Package: DNABarcodes Version: 1.38.0 Command: /Library/Frameworks/R.framework/Resources/bin/R CMD build --keep-empty-dirs --no-resave-data DNABarcodes StartedAt: 2025-10-13 18:41:53 -0400 (Mon, 13 Oct 2025) EndedAt: 2025-10-13 18:45:09 -0400 (Mon, 13 Oct 2025) EllapsedTime: 196.6 seconds RetCode: 0 Status: OK PackageFile: DNABarcodes_1.38.0.tar.gz PackageFileSize: 347.8 KiB