Package: DNABarcodes Version: 1.38.0 Command: rm -rf DNABarcodes.buildbin-libdir && mkdir DNABarcodes.buildbin-libdir && /Users/biocbuild/BBS/utils/build-universal.sh DNABarcodes_1.38.0.tar.gz /Library/Frameworks/R.framework/Resources/bin/R DNABarcodes.buildbin-libdir StartedAt: 2025-10-14 13:18:35 -0400 (Tue, 14 Oct 2025) EndedAt: 2025-10-14 13:21:55 -0400 (Tue, 14 Oct 2025) EllapsedTime: 199.8 seconds RetCode: 0 Status: OK PackageFile: DNABarcodes_1.38.0.tgz PackageFileSize: 485.7 KiB