Package: DNABarcodeCompatibility Version: 1.26.0 Command: /home/biocbuild/R/R/bin/R CMD INSTALL DNABarcodeCompatibility StartedAt: 2025-11-10 21:13:00 -0000 (Mon, 10 Nov 2025) EndedAt: 2025-11-10 21:14:00 -0000 (Mon, 10 Nov 2025) EllapsedTime: 60.1 seconds RetCode: 0 Status: OK