Package: DNABarcodeCompatibility Version: 1.26.0 Command: /home/biocbuild/R/R/bin/R CMD build --keep-empty-dirs --no-resave-data DNABarcodeCompatibility StartedAt: 2025-11-11 01:16:05 -0000 (Tue, 11 Nov 2025) EndedAt: 2025-11-11 01:17:48 -0000 (Tue, 11 Nov 2025) EllapsedTime: 103.0 seconds RetCode: 0 Status: OK PackageFile: DNABarcodeCompatibility_1.26.0.tar.gz PackageFileSize: 285 KiB