Package: DNABarcodeCompatibility Version: 1.26.0 Command: /home/biocbuild/bbs-3.22-bioc/R/bin/R CMD INSTALL DNABarcodeCompatibility StartedAt: 2025-11-13 15:09:25 -0500 (Thu, 13 Nov 2025) EndedAt: 2025-11-13 15:09:58 -0500 (Thu, 13 Nov 2025) EllapsedTime: 32.3 seconds RetCode: 0 Status: OK