Package: DNABarcodeCompatibility Version: 1.26.0 Command: /home/biocbuild/bbs-3.22-bioc/R/bin/R CMD build --keep-empty-dirs --no-resave-data --md5 DNABarcodeCompatibility StartedAt: 2025-11-13 17:25:33 -0500 (Thu, 13 Nov 2025) EndedAt: 2025-11-13 17:26:43 -0500 (Thu, 13 Nov 2025) EllapsedTime: 70.0 seconds RetCode: 0 Status: OK PackageFile: DNABarcodeCompatibility_1.26.0.tar.gz PackageFileSize: 262.1 KiB