Package: DNABarcodeCompatibility Version: 1.24.0 Command: /Library/Frameworks/R.framework/Resources/bin/R CMD INSTALL DNABarcodeCompatibility StartedAt: 2025-10-13 15:16:23 -0400 (Mon, 13 Oct 2025) EndedAt: 2025-10-13 15:17:11 -0400 (Mon, 13 Oct 2025) EllapsedTime: 48.2 seconds RetCode: 0 Status: OK