Package: DNABarcodeCompatibility Version: 1.24.0 Command: /Library/Frameworks/R.framework/Resources/bin/R CMD build --keep-empty-dirs --no-resave-data DNABarcodeCompatibility StartedAt: 2025-10-13 18:41:52 -0400 (Mon, 13 Oct 2025) EndedAt: 2025-10-13 18:44:58 -0400 (Mon, 13 Oct 2025) EllapsedTime: 186.8 seconds RetCode: 0 Status: OK PackageFile: DNABarcodeCompatibility_1.24.0.tar.gz PackageFileSize: 260.1 KiB