Package: DMRcate Version: 3.6.0 Command: /home/biocbuild/bbs-3.22-bioc/R/bin/R CMD INSTALL DMRcate StartedAt: 2025-11-16 16:10:46 -0500 (Sun, 16 Nov 2025) EndedAt: 2025-11-16 16:11:44 -0500 (Sun, 16 Nov 2025) EllapsedTime: 57.6 seconds RetCode: 0 Status: OK