Package: DMRcate Version: 3.6.0 Command: /home/biocbuild/bbs-3.22-bioc/R/bin/R CMD build --keep-empty-dirs --no-resave-data --md5 DMRcate StartedAt: 2025-11-16 17:28:49 -0500 (Sun, 16 Nov 2025) EndedAt: 2025-11-16 17:42:45 -0500 (Sun, 16 Nov 2025) EllapsedTime: 835.8 seconds RetCode: 0 Status: OK PackageFile: DMRcate_3.6.0.tar.gz PackageFileSize: 820.4 KiB