Package: DMRScan Version: 1.32.0 Command: /home/biocbuild/bbs-3.22-bioc/R/bin/R CMD INSTALL DMRScan StartedAt: 2025-11-11 15:28:10 -0500 (Tue, 11 Nov 2025) EndedAt: 2025-11-11 15:28:24 -0500 (Tue, 11 Nov 2025) EllapsedTime: 13.4 seconds RetCode: 0 Status: OK