Package: DMRScan Version: 1.30.0 Command: /home/biocbuild/bbs-3.21-bioc/R/bin/R CMD INSTALL DMRScan StartedAt: 2025-10-15 15:23:09 -0400 (Wed, 15 Oct 2025) EndedAt: 2025-10-15 15:23:23 -0400 (Wed, 15 Oct 2025) EllapsedTime: 14.5 seconds RetCode: 0 Status: OK