Package: DMRScan Version: 1.30.0 Command: /home/biocbuild/bbs-3.21-bioc/R/bin/R CMD build --keep-empty-dirs --no-resave-data DMRScan StartedAt: 2025-10-15 17:15:55 -0400 (Wed, 15 Oct 2025) EndedAt: 2025-10-15 17:17:21 -0400 (Wed, 15 Oct 2025) EllapsedTime: 85.1 seconds RetCode: 0 Status: OK PackageFile: DMRScan_1.30.0.tar.gz PackageFileSize: 3.347 MiB