Package: DMRScan Version: 1.32.0 Command: /Library/Frameworks/R.framework/Resources/bin/R CMD INSTALL DMRScan StartedAt: 2025-10-31 15:26:53 -0400 (Fri, 31 Oct 2025) EndedAt: 2025-10-31 15:27:14 -0400 (Fri, 31 Oct 2025) EllapsedTime: 20.9 seconds RetCode: 0 Status: OK