Package: DMRScan Version: 1.32.0 Command: rm -rf DMRScan.buildbin-libdir && mkdir DMRScan.buildbin-libdir && /Users/biocbuild/BBS/utils/build-universal.sh DMRScan_1.32.0.tar.gz /Library/Frameworks/R.framework/Resources/bin/R DMRScan.buildbin-libdir StartedAt: 2025-11-03 01:38:18 -0500 (Mon, 03 Nov 2025) EndedAt: 2025-11-03 01:38:43 -0500 (Mon, 03 Nov 2025) EllapsedTime: 24.2 seconds RetCode: 0 Status: OK PackageFile: DMRScan_1.32.0.tgz PackageFileSize: 5.081 MiB